BEGIN:VCALENDAR
VERSION:2.0
PRODID:-//Martinuskerk Markelo - ECPv6.15.17//NONSGML v1.0//EN
CALSCALE:GREGORIAN
METHOD:PUBLISH
X-WR-CALNAME:Martinuskerk Markelo
X-ORIGINAL-URL:https://www.pkn-markelo.nl
X-WR-CALDESC:Evenementen voor Martinuskerk Markelo
REFRESH-INTERVAL;VALUE=DURATION:PT1H
X-Robots-Tag:noindex
X-PUBLISHED-TTL:PT1H
BEGIN:VTIMEZONE
TZID:Europe/Amsterdam
BEGIN:DAYLIGHT
TZOFFSETFROM:+0100
TZOFFSETTO:+0200
TZNAME:CEST
DTSTART:20250330T010000
END:DAYLIGHT
BEGIN:STANDARD
TZOFFSETFROM:+0200
TZOFFSETTO:+0100
TZNAME:CET
DTSTART:20251026T010000
END:STANDARD
BEGIN:DAYLIGHT
TZOFFSETFROM:+0100
TZOFFSETTO:+0200
TZNAME:CEST
DTSTART:20260329T010000
END:DAYLIGHT
BEGIN:STANDARD
TZOFFSETFROM:+0200
TZOFFSETTO:+0100
TZNAME:CET
DTSTART:20261025T010000
END:STANDARD
BEGIN:DAYLIGHT
TZOFFSETFROM:+0100
TZOFFSETTO:+0200
TZNAME:CEST
DTSTART:20270328T010000
END:DAYLIGHT
BEGIN:STANDARD
TZOFFSETFROM:+0200
TZOFFSETTO:+0100
TZNAME:CET
DTSTART:20271031T010000
END:STANDARD
END:VTIMEZONE
BEGIN:VEVENT
DTSTART;TZID=Europe/Amsterdam:20260503T100000
DTEND;TZID=Europe/Amsterdam:20260503T113000
DTSTAMP:20260420T065534
CREATED:20260416T161701Z
LAST-MODIFIED:20260416T161804Z
UID:7132-1777802400-1777807800@www.pkn-markelo.nl
SUMMARY:Dienst van de Vrijheid
DESCRIPTION:Mevr. Dini Beuving \nM.m.v. leden van de Stichting Markelo herdenkt en viert vrijheid \nKoor Mar-Cant en Emmely Schoneveld
URL:https://www.pkn-markelo.nl/agenda/dienst-van-de-vrijheid/
LOCATION:Martinuskerk\, Kerkplein 4\, Markelo\, Nederland
CATEGORIES:Kerkdiensten
ATTACH;FMTTYPE=image/jpeg:https://www.pkn-markelo.nl/wp-content/uploads/2024/12/eredienst-martinuskerk.jpg
ORGANIZER;CN="Martinuskerk Markelo":MAILTO:kaarten@pkn-markelo.nl
END:VEVENT
BEGIN:VEVENT
DTSTART;TZID=Europe/Amsterdam:20260510T100000
DTEND;TZID=Europe/Amsterdam:20260510T113000
DTSTAMP:20260420T065534
CREATED:20260416T162506Z
LAST-MODIFIED:20260416T162506Z
UID:7136-1778407200-1778412600@www.pkn-markelo.nl
SUMMARY:Eredienst
DESCRIPTION:Ds. G.J. LambersHeerspink
URL:https://www.pkn-markelo.nl/agenda/eredienst/
LOCATION:Martinuskerk\, Kerkplein 4\, Markelo\, Nederland
CATEGORIES:Kerkdiensten
ATTACH;FMTTYPE=image/jpeg:https://www.pkn-markelo.nl/wp-content/uploads/2024/12/eredienst-martinuskerk.jpg
ORGANIZER;CN="Martinuskerk Markelo":MAILTO:kaarten@pkn-markelo.nl
END:VEVENT
END:VCALENDAR