BEGIN:VCALENDAR
VERSION:2.0
PRODID:-//Martinuskerk Markelo - ECPv6.15.17//NONSGML v1.0//EN
CALSCALE:GREGORIAN
METHOD:PUBLISH
X-WR-CALNAME:Martinuskerk Markelo
X-ORIGINAL-URL:https://www.pkn-markelo.nl
X-WR-CALDESC:Evenementen voor Martinuskerk Markelo
REFRESH-INTERVAL;VALUE=DURATION:PT1H
X-Robots-Tag:noindex
X-PUBLISHED-TTL:PT1H
BEGIN:VTIMEZONE
TZID:Europe/Amsterdam
BEGIN:DAYLIGHT
TZOFFSETFROM:+0100
TZOFFSETTO:+0200
TZNAME:CEST
DTSTART:20250330T010000
END:DAYLIGHT
BEGIN:STANDARD
TZOFFSETFROM:+0200
TZOFFSETTO:+0100
TZNAME:CET
DTSTART:20251026T010000
END:STANDARD
BEGIN:DAYLIGHT
TZOFFSETFROM:+0100
TZOFFSETTO:+0200
TZNAME:CEST
DTSTART:20260329T010000
END:DAYLIGHT
BEGIN:STANDARD
TZOFFSETFROM:+0200
TZOFFSETTO:+0100
TZNAME:CET
DTSTART:20261025T010000
END:STANDARD
BEGIN:DAYLIGHT
TZOFFSETFROM:+0100
TZOFFSETTO:+0200
TZNAME:CEST
DTSTART:20270328T010000
END:DAYLIGHT
BEGIN:STANDARD
TZOFFSETFROM:+0200
TZOFFSETTO:+0100
TZNAME:CET
DTSTART:20271031T010000
END:STANDARD
END:VTIMEZONE
BEGIN:VEVENT
DTSTART;TZID=Europe/Amsterdam:20260322T100000
DTEND;TZID=Europe/Amsterdam:20260322T113000
DTSTAMP:20260420T065350
CREATED:20260302T142135Z
LAST-MODIFIED:20260302T142135Z
UID:7006-1774173600-1774179000@www.pkn-markelo.nl
SUMMARY:Buurtdienst Stokkum
DESCRIPTION:Dhr. Jan Leijenhorst
URL:https://www.pkn-markelo.nl/agenda/buurtdienst-stokkum/
LOCATION:Gebouwtje Stokkum\, Stokkumerweg 40A\, Markelo\, 7475MV\, Netherlands
CATEGORIES:Kerkdiensten
ATTACH;FMTTYPE=image/jpeg:https://www.pkn-markelo.nl/wp-content/uploads/2025/09/buurtdienst-stokkum-martinuskerk.jpg
ORGANIZER;CN="Martinuskerk Markelo":MAILTO:kaarten@pkn-markelo.nl
END:VEVENT
BEGIN:VEVENT
DTSTART;TZID=Europe/Amsterdam:20260327T144500
DTEND;TZID=Europe/Amsterdam:20260327T154500
DTSTAMP:20260420T065350
CREATED:20260312T160015Z
LAST-MODIFIED:20260312T160015Z
UID:7076-1774622700-1774626300@www.pkn-markelo.nl
SUMMARY:Zangmiddag Anholtskamp
DESCRIPTION:Ds. Deodaat van der Boon
URL:https://www.pkn-markelo.nl/agenda/zangmiddag-anholtskamp/
LOCATION:Anholtskamp\, A. ten Hovestraat 1\, Markelo
CATEGORIES:Kerkdiensten
ATTACH;FMTTYPE=image/jpeg:https://www.pkn-markelo.nl/wp-content/uploads/2024/12/zang-middag-avond-anholtskamp-markelo-2.jpg
END:VEVENT
BEGIN:VEVENT
DTSTART;TZID=Europe/Amsterdam:20260329T100000
DTEND;TZID=Europe/Amsterdam:20260329T113000
DTSTAMP:20260420T065350
CREATED:20260312T155638Z
LAST-MODIFIED:20260326T194151Z
UID:7074-1774778400-1774783800@www.pkn-markelo.nl
SUMMARY:Eredienst Palmpasen
DESCRIPTION:Ds. Peter Hendriks
URL:https://www.pkn-markelo.nl/agenda/eredienst-palmpasen/
LOCATION:Martinushof\, Martinushof\, Markelo\, Kerkplein 41
CATEGORIES:Kerkdiensten
ATTACH;FMTTYPE=image/jpeg:https://www.pkn-markelo.nl/wp-content/uploads/2024/12/eredienst-martinuskerk.jpg
ORGANIZER;CN="Martinuskerk Markelo":MAILTO:kaarten@pkn-markelo.nl
END:VEVENT
BEGIN:VEVENT
DTSTART;TZID=Europe/Amsterdam:20260331T193000
DTEND;TZID=Europe/Amsterdam:20260331T203000
DTSTAMP:20260420T065350
CREATED:20260323T173459Z
LAST-MODIFIED:20260323T173459Z
UID:7086-1774985400-1774989000@www.pkn-markelo.nl
SUMMARY:Vesper
DESCRIPTION:Petrus
URL:https://www.pkn-markelo.nl/agenda/vesper-2/
LOCATION:Martinuskerk\, Kerkplein 4\, Markelo\, Nederland
CATEGORIES:Kerkdiensten
ATTACH;FMTTYPE=image/jpeg:https://www.pkn-markelo.nl/wp-content/uploads/2026/03/image-5-scaled.jpg
ORGANIZER;CN="Martinuskerk Markelo":MAILTO:kaarten@pkn-markelo.nl
END:VEVENT
END:VCALENDAR